BEGIN:VCALENDAR
VERSION:2.0
PRODID:-//wp-events-plugin.com//7.2.3.1//EN
BEGIN:VEVENT
UID:163@ecampus.aicel.org
DTSTART;TZID=Europe/Rome:20220412T090000
DTEND;TZID=Europe/Rome:20220413T173000
DTSTAMP:20220329T154653Z
URL:https://ecampus.aicel.org/corsi/xviii-corso-agenzie-accreditate-certif
 ico
SUMMARY:XVIII Corso Agenzie Accreditate Certifico -  - 12 Apr 22 09:00
DESCRIPTION:L'iniziativa si occuperà di formare\, sostenere e supportare l
 e figure professionali che offrono i propri servizi al mondo ecommerce
ATTACH;FMTTYPE=image/jpeg:https://ecampus.aicel.org/wp-content/uploads/AIC
 EL-XVIII-Corso-Agenzie-Accreditate-Certifico-nl.png
CATEGORIES:Certifico - eCommerce Competente,Formazione Professionisti
 eCommerce
END:VEVENT
BEGIN:VTIMEZONE
TZID:Europe/Rome
X-LIC-LOCATION:Europe/Rome
BEGIN:DAYLIGHT
DTSTART:20220327T030000
TZOFFSETFROM:+0100
TZOFFSETTO:+0200
TZNAME:CEST
END:DAYLIGHT
END:VTIMEZONE
END:VCALENDAR