BEGIN:VCALENDAR
VERSION:2.0
PRODID:-//wp-events-plugin.com//7.2.3.1//EN
BEGIN:VEVENT
UID:145@ecampus.aicel.org
DTSTART;TZID=Europe/Rome:20210922T093000
DTEND;TZID=Europe/Rome:20210923T173000
DTSTAMP:20211017T145136Z
URL:https://ecampus.aicel.org/corsi/xvii-corso-agenzie-accreditate-certifi
 co
SUMMARY:XVII Corso Agenzie Accreditate Certifico [ANNULLATO] -  - 22 Set 21
  09:30
DESCRIPTION:L'iniziativa si occuperà di formare\, sostenere e supportare l
 e figure professionali che offrono i propri servizi al mondo ecommerce
CATEGORIES:Certifico - eCommerce Competente,Formazione Professionisti
 eCommerce
END:VEVENT
BEGIN:VTIMEZONE
TZID:Europe/Rome
X-LIC-LOCATION:Europe/Rome
BEGIN:DAYLIGHT
DTSTART:20210328T030000
TZOFFSETFROM:+0100
TZOFFSETTO:+0200
TZNAME:CEST
END:DAYLIGHT
END:VTIMEZONE
END:VCALENDAR