BEGIN:VCALENDAR
VERSION:2.0
PRODID:-//wp-events-plugin.com//7.2.3.1//EN
BEGIN:VEVENT
UID:161@ecampus.aicel.org
DTSTART;TZID=Europe/Rome:20211111T090000
DTEND;TZID=Europe/Rome:20211112T173000
DTSTAMP:20211029T143336Z
URL:https://ecampus.aicel.org/corsi/xvii-corso-agenzie-accreditate-certifi
 co-2
SUMMARY:XVII Corso Agenzie Accreditate Certifico -  - 11 Nov 21 09:00
DESCRIPTION:L'iniziativa si occuperà di formare\, sostenere e supportare l
 e figure professionali che offrono i propri servizi al mondo ecommerce
ATTACH;FMTTYPE=image/jpeg:https://ecampus.aicel.org/wp-content/uploads/AIC
 EL-XVIi-Corso-Agenzie-Accreditate-Certifico-nl-1.png
CATEGORIES:Certifico - eCommerce Competente,Formazione Professionisti
 eCommerce
END:VEVENT
BEGIN:VTIMEZONE
TZID:Europe/Rome
X-LIC-LOCATION:Europe/Rome
BEGIN:STANDARD
DTSTART:20211031T020000
TZOFFSETFROM:+0200
TZOFFSETTO:+0100
TZNAME:CET
END:STANDARD
END:VTIMEZONE
END:VCALENDAR