BEGIN:VCALENDAR
VERSION:2.0
PRODID:-//wp-events-plugin.com//7.2.3.1//EN
BEGIN:VEVENT
UID:144@ecampus.aicel.org
DTSTART;TZID=Europe/Rome:20210628T093000
DTEND;TZID=Europe/Rome:20210629T173000
DTSTAMP:20210625T100916Z
URL:https://ecampus.aicel.org/corsi/xvi-corso-agenzie-accreditate-certific
 o
SUMMARY:XVI Corso Agenzie Accreditate Certifico -  - 28 Giu 21 09:30
DESCRIPTION:L'iniziativa si occuperà di formare\, sostenere e supportare l
 e figure professionali che offrono i propri servizi al mondo ecommerce
ATTACH;FMTTYPE=image/jpeg:https://ecampus.aicel.org/wp-content/uploads/AIC
 EL-XVI-Corso-Agenzie-Accreditate-Certifico-nl.png
CATEGORIES:Certifico - eCommerce Competente,Formazione Professionisti
 eCommerce
END:VEVENT
BEGIN:VTIMEZONE
TZID:Europe/Rome
X-LIC-LOCATION:Europe/Rome
BEGIN:DAYLIGHT
DTSTART:20210328T030000
TZOFFSETFROM:+0100
TZOFFSETTO:+0200
TZNAME:CEST
END:DAYLIGHT
END:VTIMEZONE
END:VCALENDAR