BEGIN:VCALENDAR
VERSION:2.0
PRODID:-//wp-events-plugin.com//7.2.3.1//EN
BEGIN:VEVENT
UID:136@ecampus.aicel.org
DTSTART;TZID=Europe/Rome:20201209T093000
DTEND;TZID=Europe/Rome:20201210T173000
DTSTAMP:20231209T152129Z
URL:https://ecampus.aicel.org/corsi/xiii-corso-agenzie-accreditate-certifi
 co-by-aicel
SUMMARY:XIII Corso Agenzie Accreditate Certifico -  - 9 Dic 20 09:30
DESCRIPTION:L'iniziativa si occuperà di formare\, sostenere e supportare l
 e figure professionali che offrono i propri servizi al mondo ecommerce
ATTACH;FMTTYPE=image/jpeg:https://ecampus.aicel.org/wp-content/uploads/XII
 I-corso-Agenzie-SonoSicuro-2020.jpeg
CATEGORIES:Certifico - eCommerce Competente,Formazione Professionisti
 eCommerce
END:VEVENT
BEGIN:VTIMEZONE
TZID:Europe/Rome
X-LIC-LOCATION:Europe/Rome
BEGIN:STANDARD
DTSTART:20201025T020000
TZOFFSETFROM:+0200
TZOFFSETTO:+0100
TZNAME:CET
END:STANDARD
END:VTIMEZONE
END:VCALENDAR