BEGIN:VCALENDAR
VERSION:2.0
PRODID:-//wp-events-plugin.com//7.2.3.1//EN
BEGIN:VEVENT
UID:124@ecampus.aicel.org
DTSTART;TZID=Europe/Rome:20201014T093000
DTEND;TZID=Europe/Rome:20201015T173000
DTSTAMP:20231209T152129Z
URL:https://ecampus.aicel.org/corsi/xii-corso-agenzie-accreditate-certific
 o
SUMMARY:XII Corso Agenzie Accreditate Certifico - Webinar - ClickMeeting - 
 14 Ott 20 09:30
DESCRIPTION:L'iniziativa si occuperà di formare\, sostenere e supportare l
 e figure professionali che offrono i propri servizi al mondo ecommerce
ATTACH;FMTTYPE=image/jpeg:https://ecampus.aicel.org/wp-content/uploads/Aic
 el-xii-corso-certifico.png
CATEGORIES:Certifico - eCommerce Competente,Formazione Professionisti
 eCommerce
LOCATION:Webinar - ClickMeeting\, Webinar\, ClickMeeting\, Italia
X-APPLE-STRUCTURED-LOCATION;VALUE=URI;X-ADDRESS=Webinar\, ClickMeeting\, It
 alia;X-APPLE-RADIUS=100;X-TITLE=Webinar - ClickMeeting:geo:0,0
END:VEVENT
BEGIN:VTIMEZONE
TZID:Europe/Rome
X-LIC-LOCATION:Europe/Rome
BEGIN:DAYLIGHT
DTSTART:20200329T030000
TZOFFSETFROM:+0100
TZOFFSETTO:+0200
TZNAME:CEST
END:DAYLIGHT
END:VTIMEZONE
END:VCALENDAR