BEGIN:VCALENDAR
VERSION:2.0
PRODID:-//wp-events-plugin.com//7.2.3.1//EN
BEGIN:VEVENT
UID:120@ecampus.aicel.org
DTSTART:20200629T073000Z
DTEND:20200701T153000Z
DTSTAMP:20231209T152129Z
URL:https://ecampus.aicel.org/corsi/xi-corso-agenzie-accreditate-certifico
SUMMARY:XI Corso Agenzie Accreditate Certifico - Webinar - ClickMeeting - 2
 9 Giu 20 09:30
DESCRIPTION:L'iniziativa si occuperà di formare\, sostenere e supportare l
 e figure professionali che offrono i propri servizi al mondo ecommerce
ATTACH;FMTTYPE=image/jpeg:https://ecampus.aicel.org/wp-content/uploads/xi-
 corso-certifico.png
CATEGORIES:Certifico - eCommerce Competente,Formazione Professionisti
 eCommerce
LOCATION:Webinar - ClickMeeting\, Webinar\, ClickMeeting\, Italia
X-APPLE-STRUCTURED-LOCATION;VALUE=URI;X-ADDRESS=Webinar\, ClickMeeting\, It
 alia;X-APPLE-RADIUS=100;X-TITLE=Webinar - ClickMeeting:geo:0,0
END:VEVENT
END:VCALENDAR