BEGIN:VCALENDAR
VERSION:2.0
PRODID:-//wp-events-plugin.com//7.2.3.1//EN
BEGIN:VEVENT
UID:117@ecampus.aicel.org
DTSTART:20200507T080000Z
DTEND:20200508T150000Z
DTSTAMP:20231209T152129Z
URL:https://ecampus.aicel.org/corsi/x-corso-agenzie-accreditate-certifico
SUMMARY:X Corso Agenzie Accreditate Certifico - Evento On Line - 7 Mag 20 1
 0:00
DESCRIPTION:L'iniziativa si occuperà di formare\, sostenere e supportare l
 e figure professionali che offrono i propri servizi al mondo ecommerce
ATTACH;FMTTYPE=image/jpeg:https://ecampus.aicel.org/wp-content/uploads/x-c
 orso-certifico.png
CATEGORIES:Certifico - eCommerce Competente,Formazione Professionisti
 eCommerce
LOCATION:Evento On Line\, Google\, Webinar [Meet]\, Italia
X-APPLE-STRUCTURED-LOCATION;VALUE=URI;X-ADDRESS=Google\, Webinar [Meet]\, I
 talia;X-APPLE-RADIUS=100;X-TITLE=Evento On Line:geo:0,0
END:VEVENT
END:VCALENDAR