BEGIN:VCALENDAR
VERSION:2.0
PRODID:-//wp-events-plugin.com//7.2.3.1//EN
BEGIN:VEVENT
UID:49@ecampus.aicel.org
DTSTART:20150120T143000Z
DTEND:20150120T153000Z
DTSTAMP:20231122T152431Z
URL:https://ecampus.aicel.org/corsi/webinar-le-mail-marketing-per-vendere-
 bene-esempi-e-obiettivi-veri
SUMMARY:[Webinar Gratuito] L'Email Marketing per vendere (bene): esempi e o
 biettivi veri -  - 20 Gen 15 16:30
DESCRIPTION:Scopri come recuperare i carrelli abbandonati\, assicurare il r
 ecapito email transazionali e coinvolgere gli acquirenti con i messaggi au
 tomatici
ATTACH;FMTTYPE=image/jpeg:https://ecampus.aicel.org/wp-content/uploads/Mai
 lUp_logo111.jpg
CATEGORIES:Vendere Grazie al Digitale
END:VEVENT
END:VCALENDAR