BEGIN:VCALENDAR
VERSION:2.0
PRODID:-//wp-events-plugin.com//7.2.3.1//EN
BEGIN:VEVENT
UID:12@ecampus.aicel.org
DTSTART:20120512T073000Z
DTEND:20120512T163000Z
DTSTAMP:20140712T154530Z
URL:https://ecampus.aicel.org/corsi/vendere-online-in-italia-e-allestero-c
 ome-progettare-le-proprie-attivita-e-commerce-corso-base
SUMMARY:Vendere online in Italia e all'estero: come progettare le proprie a
 ttivita' e-commerce. Corso Base - Sede AICEL - Roma - 12 Mag 12 09:30
DESCRIPTION:\n\nRelatore.\n\nGiorgio Brojanigo.\n\nProgramma.\n\nCorso di u
 na giornata per imparare a capire come impostare e sviluppare un progetto 
 di commercio elettronico di successo.\nAnalisi preliminare del business e 
 dei diversi modelli di e-commerce. La definizione del business plan e le p
 rincipali sfide organizzative.\n\n\nIl seminario ha un taglio operativo\, 
 con l'obiettivo di fornire elementi di conoscenza e strumenti concreti da 
 applicare nella propria azienda\, con un’analisi di tutti i passi operat
 ivi della preparazione\, progettazione\, realizzazione\, gestione e succes
 siva ottimizzazione delle attività.\n\nA chi è destinato:\n\n- project m
 anager di costruendi siti di commercio elettronico\n- project manager di s
 hop già online\n- manager e responsabili di azienda interessati ad avviar
 e progetti di vendita via web\n\nCosa si impara:\n\n- come analizzare il p
 roprio business e valutare la praticabilità del canale online e il modell
 o più adatto\n- come stimare costi e ricavi nell'arco dei primi 3 anni\n-
  come decidere quali attività gestire internamente e quali esternalizzare
 \n- come risolvere le principali problematiche operative\n- come gestire l
 'internazionalizzazione\n\nProgramma (dalle 09:00 alle 18:00)\n\n1) Chi si
 amo e dove siamo: analisi iniziale dell'azienda e dei suoi competitor\, on
 line ed offline.\n2) Cosa vogliamo: definizione degli obiettivi commercial
 i e comunicazionali del sito e scelta del modello di e-commerce più adatt
 o.\n3) Insourcing vs outsourcing: modelli alternativi o due fasi di un per
 corso evolutivo?\n\n4) Chi fa cosa: responsabilità interne e ricerca e se
 lezione dei fornitori per l'outsourcing.\n\n5) Quanto costa e quanto si gu
 adagna? Redazione di un business plan triennale\, con dettaglio di costi e
  ricavi.\n\n6) Il piano di lavoro: calendarizzazione e scadenziario di tut
 te le attività\, interne ed esterne.\n7) Le aree di intervento operativo:
  tecnologia\, logistica\, servizio clienti\, incassi e contabilità.\n8) I
 l debutto: lancio del sito\, rodaggio iniziale e messa a punto.\n9) La ges
 tione del negozio online: catalogo\, clienti\, statistiche.\n\n10) La prom
 ozione: marketing online\, comunicazione offlline\, azioni multicanale.\n1
 1) L'internazionalizzazione del business: vendite UE ed extra-UE\, gestion
 e centralizzata e distribuita\n12) Work is ALWAYS in progress: gestione e 
 ottimizzazione continua della struttura\, delle funzionalità\, dell'offer
 ta\n
CATEGORIES:Gli aspetti pratici dell’e-commerce,Vendere Grazie al
 Digitale
LOCATION:Sede AICEL - Roma\, Viale Pinturicchio\, 19\, Roma\, RM\, 00010\, 
 Lazio\, Italia
GEO:41.9324838;12.466797400000019
X-APPLE-STRUCTURED-LOCATION;VALUE=URI;X-ADDRESS=Viale Pinturicchio\, 19\, R
 oma\, RM\, 00010\, Lazio\, Italia;X-APPLE-RADIUS=100;X-TITLE=Sede AICEL - 
 Roma:geo:41.9324838,12.466797400000019
END:VEVENT
END:VCALENDAR