BEGIN:VCALENDAR
VERSION:2.0
PRODID:-//wp-events-plugin.com//7.2.3.1//EN
BEGIN:VEVENT
UID:29@ecampus.aicel.org
DTSTART:20130201T073000Z
DTEND:20130201T153000Z
DTSTAMP:20130128T080334Z
URL:https://ecampus.aicel.org/corsi/vendere-online-in-italia-e-allestero-c
 ome-progettare-le-proprie-attivita-e-commerce-corso-base-20130201
SUMMARY:Vendere online in Italia e all'estero: come progettare le proprie a
 ttivita' e-commerce. Corso Base - Desenzano\, Hotel Nazionale - 1 Feb 13 0
 9:30
DESCRIPTION:\nDocente:Giorgio Brojanigo.\nProgramma.\nCorso di una giornata
  per imparare a capire come impostare e sviluppare un progetto di commerci
 o elettronico di successo. Analisi preliminare del business e dei diversi
  modelli di e-commerce.  La definizione del business plan e le principali
  sfide organizzative.\n\n\nIl seminario ha un taglio operativo\, con l'obi
 ettivo di fornire elementi di conoscenza e strumenti concreti da applicare
  nella propria azienda\, con un’analisi di tutti i passi operativi della
  preparazione\, progettazione\, realizzazione\, gestione e successiva otti
 mizzazione delle attività.\nA chi è destinato:\n\n	project manager di co
 struendi siti di commercio elettronico\n	project manager di shop già onli
 ne\n	manager e responsabili di azienda interessati ad avviare progetti di 
 vendita via web\n\nCosa si impara:\n\n	come analizzare il proprio business
  e valutare la praticabilità del canale online e il modello più adatto\n
 	come stimare costi e ricavi nell'arco dei primi 3 anni\n	come decidere qu
 ali attività gestire internamente e quali esternalizzare\n	come risolvere
  le principali problematiche operative\n	come gestire l'internazionalizzaz
 ione\n\n
CATEGORIES:Vendere Grazie al Digitale
LOCATION:Desenzano\, Hotel Nazionale\, Viale Marconi\, 23\, Desenzano del G
 arda\, Brescia\, 25015\, Lombardia\, Italia
GEO:45.4684347;10.53603499999997
X-APPLE-STRUCTURED-LOCATION;VALUE=URI;X-ADDRESS=Viale Marconi\, 23\, Desenz
 ano del Garda\, Brescia\, 25015\, Lombardia\, Italia;X-APPLE-RADIUS=100;X-
 TITLE=Desenzano\, Hotel Nazionale:geo:45.4684347,10.53603499999997
END:VEVENT
END:VCALENDAR