BEGIN:VCALENDAR
VERSION:2.0
PRODID:-//wp-events-plugin.com//7.2.3.1//EN
BEGIN:VEVENT
UID:24@ecampus.aicel.org
DTSTART:20121207T073000Z
DTEND:20121207T150000Z
DTSTAMP:20121203T091746Z
URL:https://ecampus.aicel.org/corsi/vendere-online-in-italia-e-allestero-c
 ome-progettare-le-proprie-attivita-e-commerce-corso-base-07122012
SUMMARY:Vendere online in Italia e all'estero: come progettare le proprie a
 ttivita' e-commerce. Corso Base - Sede AICEL - Roma - 7 Dic 12 09:30
DESCRIPTION:imparare a capire come impostare e sviluppare un progetto di co
 mmercio elettronico di successo. Analisi preliminare del business e dei di
 versi modelli di e-commerce.  La definizione del business plan e le princi
 pali sfide organizzative
CATEGORIES:Gli aspetti pratici dell’e-commerce,Vendere Grazie al
 Digitale
LOCATION:Sede AICEL - Roma\, Viale Pinturicchio\, 19\, Roma\, RM\, 00010\, 
 Lazio\, Italia
GEO:41.9324838;12.466797400000019
X-APPLE-STRUCTURED-LOCATION;VALUE=URI;X-ADDRESS=Viale Pinturicchio\, 19\, R
 oma\, RM\, 00010\, Lazio\, Italia;X-APPLE-RADIUS=100;X-TITLE=Sede AICEL - 
 Roma:geo:41.9324838,12.466797400000019
END:VEVENT
END:VCALENDAR