BEGIN:VCALENDAR
VERSION:2.0
PRODID:-//wp-events-plugin.com//7.2.3.1//EN
BEGIN:VEVENT
UID:13@ecampus.aicel.org
DTSTART:20120629T073000Z
DTEND:20120629T163000Z
DTSTAMP:20140712T154704Z
URL:https://ecampus.aicel.org/corsi/vendere-online-in-italia-e-allestero-c
 ome-progettare-le-proprie-attivita-e-commerce-corso-avanzato
SUMMARY:Vendere online in Italia e all'estero: come progettare le proprie a
 ttività e-commerce. Corso Avanzato - Sede AICEL - Roma - 29 Giu 12 09:30
DESCRIPTION:Relatore.\n\nGiorgio Brojanigo.\n\n\nCorso di una giornata per 
 approfondire le problematiche e le soluzioni operative nello sviluppo di u
 n progetto di commercio elettronico di successo.\n\n\nIl seminario ha un t
 aglio operativo\, con l'obiettivo di fornire elementi di approfondimento e
  strumenti concreti da applicare nella propria azienda\, con un’analisi 
 dettagliata di tutte le principali aree di intervento\, le criticità\, i 
 pro e i contro delle diverse soluzioni disponibili sul mercato. Il corso 
 è consigliato a chi ha già seguito il corso base.\n\nA chi è destinato:
 \n\n- project manager di costruendi siti di commercio elettronico\n- proje
 ct manager di shop già online\n- manager e responsabili di azienda intere
 ssati ad avviare progetti di vendita via web\n\nCosa si impara:\n\n\n\n- c
 ome analizzare criticamente  i propri processi aziendali e valutarne il g
 rado di adattabilità alle vendite online\n- quali sono le principali aree
  di intervento operativo e quali le possibili modalità di gestione\n- com
 e valutare e scegliere le soluzioni tecnologiche e i fornitori\n- conoscer
 e le best practice e come evitare gli errori più comuni\n\n\n\n\n\n\n\n\n
 \n\n\n\n\n\n\n\n\n\n\n\n\n\n\n\n\n\nProgramma (dalle 09:00 alle 18:00)\n\n
 \n\n\n1 ) Gli attuali processi aziendali sono adatti all'e-commerce? Anali
 zzare le principali aree di intervento progettuale per attivare un canale
  di vendita online.\n\n\n\n\n\n\n\n\n\n\n\n\n\n\n\n\n\n\n\n\n\n\n\n\n\n\n\
 n\n\n\n\n\n\n\n\n\n\n\n\n\n\n\n\n\n\n\n\n\n\n\n\n\n2 ) La piattaforma e-co
 mmerce: soluzioni di mercato o soluzioni custom? Le caratteristiche funzio
 nali\, come sceglierla\, come integrarla con il sistema informativo aziend
 ale.\n\n\n\n\n\n\n\n\n\n\n\n\n\n\n\n\n\n\n\n\n\n\n\n\n\n\n\n\n\n\n\n\n\n\n
 \n\n\n\n\n\n\n\n\n\n\n\n\n\n\n\n\n\n\n\n\n\n\n\n\n\n\n\n\n\n\n\n\n\n\n\n\n
 \n3 ) Il magazzino: soluzioni tecnologiche\, organizzazione per la vendita
  online\, la gestione diretta e l'outsourcing\n\n\n\n\n\n\n\n\n\n\n\n\n\n\
 n\n\n\n\n\n\n\n\n\n\n\n\n\n\n\n\n\n\n\n\n\n\n\n\n\n\n\n\n\n\n\n\n\n\n\n\n\
 n\n\n\n\n\n\n\n\n\n\n\n\n\n\n\n\n\n\n\n\n\n4 ) La consegna: corrieri\, pic
 king point\, multicanalità\, spedizioni internazionali\n\n\n\n\n\n\n\n\n\
 n\n\n\n\n\n\n\n\n\n\n\n\n\n\n\n\n\n\n\n\n\n\n\n\n\n\n\n\n\n\n\n\n\n\n\n\n\
 n\n\n\n\n\n\n\n\n\n\n\n\n\n\n\n\n\n\n\n\n\n\n\n\n\n\n5 ) Reverse logistics
 : anche gli ordini a volte ritornano. Gestire uno degli aspetti più criti
 ci della vendita online\n6 ) I metodi di pagamento e i sistemi di incasso\
 n7 ) Amministrazione e contabilità: normative e best practice\n\n\n\n\n\n
 \n\n\n\n\n\n\n\n\n\n\n\n\n\n\n\n\n\n\n\n\n\n\n\n\n\n\n\n\n\n\n\n\n\n\n\n\n
 \n\n\n\n\n\n\n\n\n\n\n\n\n\n\n\n\n\n\n\n\n\n\n\n\n\n\n\n\n\n\n\n\n8 ) Il s
 ervizio clienti: tecnologie\, canali\, internazionalizzazione\, best pract
 ice ed errori da evitare\n9 ) La gestione dello store: la piattaforma\, le
  tecnologie di supporto\, suggerimenti per e-commercianti\n\n\n\n\n\n\n\n\
 n\n\n\n\n\n\n\n\n\n\n\n\n\n\n\n\n\n\n\n\n\n\n\n\n\n\n\n\n\n\n\n\n\n\n\n\n\
 n\n\n\n\n\n\n\n\n\n\n\n\n\n\n\n\n\n\n\n\n\n\n\n\n\n\n\n\n\n10 ) La gestion
 e delle attività di marketing: come incrementare vendite e loyalty con em
 ail marketing\, CRM\, recommendation e altri strumenti evoluti\n\n\n\n\n\n
 \n\n\n\n\n\n\n\n\n\n\n\n\n\n\n\n\n\n\n\n\n\n\n\n\n\n\n\n\n\n\n\n\n\n\n\n\n
 \n\n\n\n\n\n\n\n\n\n\n\n\n\n\n\n\n\n\n\n\n\n\n\n\n\n\n\n\n\n\n\n11 ) L'org
 anizzazione dell'azienda: struttura e professionalità richieste\n\n\n\n\n
 \n\n\n\n\n\n\n\n\n\n\n\n\n\n\n\n\n\n\n\n\n\n\n\n\n\n\n\n\n\n\n\n\n\n
CATEGORIES:Gli aspetti pratici dell’e-commerce
LOCATION:Sede AICEL - Roma\, Viale Pinturicchio\, 19\, Roma\, RM\, 00010\, 
 Lazio\, Italia
GEO:41.9324838;12.466797400000019
X-APPLE-STRUCTURED-LOCATION;VALUE=URI;X-ADDRESS=Viale Pinturicchio\, 19\, R
 oma\, RM\, 00010\, Lazio\, Italia;X-APPLE-RADIUS=100;X-TITLE=Sede AICEL - 
 Roma:geo:41.9324838,12.466797400000019
END:VEVENT
END:VCALENDAR