BEGIN:VCALENDAR
VERSION:2.0
PRODID:-//wp-events-plugin.com//7.2.3.1//EN
BEGIN:VEVENT
UID:179@ecampus.aicel.org
DTSTART;TZID=Europe/Rome:20240314T093000
DTEND;TZID=Europe/Rome:20240314T103000
DTSTAMP:20240313T154008Z
URL:https://ecampus.aicel.org/corsi/vendere-on-line-con-lemail-marketing-a
 utomation-per-ecommerce
SUMMARY:Vendere on line con l'email Marketing Automation per eCommerce -  -
  14 Mar 24 09:30
DESCRIPTION:Un webinar per approfondire come vendere online con l'email mar
 keting e la marketing automation omincanale per gli eCommerce. Un mercato
  che cresce del 15% ogni anno il cui valore è stimato di 15 miliardi di d
 ollari entro il 2030.
ATTACH;FMTTYPE=image/jpeg:https://ecampus.aicel.org/wp-content/uploads/Ven
 dere-on-line-con-lemail-Marketing-Automation-per-eCommerce.png
CATEGORIES:Vendere Grazie al Digitale
END:VEVENT
BEGIN:VTIMEZONE
TZID:Europe/Rome
X-LIC-LOCATION:Europe/Rome
BEGIN:STANDARD
DTSTART:20231029T020000
TZOFFSETFROM:+0200
TZOFFSETTO:+0100
TZNAME:CET
END:STANDARD
END:VTIMEZONE
END:VCALENDAR