BEGIN:VCALENDAR
VERSION:2.0
PRODID:-//wp-events-plugin.com//7.2.3.1//EN
BEGIN:VEVENT
UID:27@ecampus.aicel.org
DTSTART:20130118T073000Z
DTEND:20130118T153000Z
DTSTAMP:20140712T155103Z
URL:https://ecampus.aicel.org/corsi/uso-dei-motori-di-ricerca-20130118
SUMMARY:L'uso dei motori di ricerca - Desenzano\, Hotel Nazionale - 18 Gen 
 13 09:30
DESCRIPTION:Il corso punta a fornire una panoramica relativa a tutte le att
 ività che riguardano l'ottimizzazione\, il posizionamento di un sito sui 
 motori di ricerca e le campagne di search marketing.
CATEGORIES:Gli aspetti pratici dell’e-commerce
LOCATION:Desenzano\, Hotel Nazionale\, Viale Marconi\, 23\, Desenzano del G
 arda\, Brescia\, 25015\, Lombardia\, Italia
GEO:45.4684347;10.53603499999997
X-APPLE-STRUCTURED-LOCATION;VALUE=URI;X-ADDRESS=Viale Marconi\, 23\, Desenz
 ano del Garda\, Brescia\, 25015\, Lombardia\, Italia;X-APPLE-RADIUS=100;X-
 TITLE=Desenzano\, Hotel Nazionale:geo:45.4684347,10.53603499999997
END:VEVENT
END:VCALENDAR