BEGIN:VCALENDAR
VERSION:2.0
PRODID:-//wp-events-plugin.com//7.2.3.1//EN
BEGIN:VEVENT
UID:147@ecampus.aicel.org
DTSTART;TZID=Europe/Rome:20210423T110000
DTEND;TZID=Europe/Rome:20210423T120000
DTSTAMP:20240125T114117Z
URL:https://ecampus.aicel.org/corsi/ups-trade-direct-e-commerce-distributi
 on
SUMMARY:UPS Trade Direct e-commerce Distribution -  - 23 Apr 21 11:00
DESCRIPTION:\nAiutare le piccole realta’ ad essere piu’ competitive sui
  maggiori marketplace. Un’unica soluzione di spedizione e consegna da Ch
 ina e Hong Kong verso Stati Uniti ed Europa.\n\nWebinar in collaborazione 
 con UPS\n\nRelatrici\n\nMarta Clerici: National Account Manager\nLaura Fan
 tauzzo: Account Executive Manager
ATTACH;FMTTYPE=image/jpeg:https://ecampus.aicel.org/wp-content/uploads/aic
 el-corso-marta-laura-nl.png
CATEGORIES:Gli aspetti pratici dell’e-commerce
END:VEVENT
BEGIN:VTIMEZONE
TZID:Europe/Rome
X-LIC-LOCATION:Europe/Rome
BEGIN:DAYLIGHT
DTSTART:20210328T030000
TZOFFSETFROM:+0100
TZOFFSETTO:+0200
TZNAME:CEST
END:DAYLIGHT
END:VTIMEZONE
END:VCALENDAR