BEGIN:VCALENDAR
VERSION:2.0
PRODID:-//wp-events-plugin.com//7.2.3.1//EN
BEGIN:VEVENT
UID:42@ecampus.aicel.org
DTSTART:20141212T120000Z
DTEND:20141212T150000Z
DTSTAMP:20141126T104318Z
URL:https://ecampus.aicel.org/corsi/trattamento-dei-dati-personali-nel-com
 mercio-elettronico-come-gestire-la-privacy
SUMMARY:Gratuito: Come Gestire la Privacy in un sito ecommerce - Desenzano\
 , Hotel Nazionale - 12 Dic 14 14:00
DESCRIPTION: \nDOCENTE: Patrizia Meo Consulente Privacy e Data Protectio
 n Officer\n\nOBIETTIVI: Ponendosi nell’ottica dell’azienda che opera 
 su internet\, l’intervento analizzerà le problematiche connesse al trat
 tamento dei dati personali fornendo i necessari orientamenti sugli adempim
 enti richiesti dalla normativa in vigore.\n\nDATA: 12 dicembre 2014\n\nD
 URATA: dalle ore 14.00 alle ore 17.00\n\nLOCATION: Desenzano D/G (BS)\, Ho
 tel Nazionale\, Viale Marconi 23\n\nPROGRAMMA:\n\nCookies policy\n\nInform
 ativa e consenso\n\nMarketing: spamming e profilazione\n\n&nbsp\;\n\n&nbsp
 \;\n\nSONO PREVISTE CONDIZIONI AGEVOLATE PER I NUOVI SOCI AICEL\n\nPrenota
 zione alberghieraLa Segreteria AICEL è a disposizione dei partecipanti pe
 r prenotazioni alberghiere a tariffe preferenziali nei limiti delle dispon
 ibilità.
CATEGORIES:Gli aspetti pratici dell’e-commerce
LOCATION:Desenzano\, Hotel Nazionale\, Viale Marconi\, 23\, Desenzano del G
 arda\, Brescia\, 25015\, Lombardia\, Italia
GEO:45.4684347;10.53603499999997
X-APPLE-STRUCTURED-LOCATION;VALUE=URI;X-ADDRESS=Viale Marconi\, 23\, Desenz
 ano del Garda\, Brescia\, 25015\, Lombardia\, Italia;X-APPLE-RADIUS=100;X-
 TITLE=Desenzano\, Hotel Nazionale:geo:45.4684347,10.53603499999997
END:VEVENT
END:VCALENDAR