BEGIN:VCALENDAR
VERSION:2.0
PRODID:-//wp-events-plugin.com//7.2.3.1//EN
BEGIN:VEVENT
UID:184@ecampus.aicel.org
DTSTART;TZID=Europe/Rome:20240307T140000
DTEND;TZID=Europe/Rome:20240307T150000
DTSTAMP:20240306T101135Z
URL:https://ecampus.aicel.org/corsi/strategie-per-il-successo-mantenere-li
 ntegrita-del-brand-e-il-controllo-delle-vendite-nei-marketplace-europei
SUMMARY:Strategie per il successo: mantenere l'Integrità del brand e il co
 ntrollo delle vendite nei marketplace europei -  - 7 Mar 24 14:00
DESCRIPTION:Con un focus sulla gestione dell'adv e della comunicazione\, i 
 partecipanti acquisiranno strategie chiave per navigare nei marketplace eu
 ropei\, proteggendo il brand e massimizzando le opportunità di vendita
ATTACH;FMTTYPE=image/jpeg:https://ecampus.aicel.org/wp-content/uploads/str
 tegie-per-marketplace-cappellotto-3.png
CATEGORIES:Vendere Grazie al Digitale
END:VEVENT
BEGIN:VTIMEZONE
TZID:Europe/Rome
X-LIC-LOCATION:Europe/Rome
BEGIN:STANDARD
DTSTART:20231029T020000
TZOFFSETFROM:+0200
TZOFFSETTO:+0100
TZNAME:CET
END:STANDARD
END:VTIMEZONE
END:VCALENDAR