BEGIN:VCALENDAR
VERSION:2.0
PRODID:-//wp-events-plugin.com//7.2.3.1//EN
BEGIN:VEVENT
UID:155@ecampus.aicel.org
DTSTART;TZID=Europe/Rome:20210903T103000
DTEND;TZID=Europe/Rome:20210903T113000
DTSTAMP:20210831T155036Z
URL:https://ecampus.aicel.org/corsi/social-commerce-cose-quali-sono-i-vant
 aggi-per-le-commerce-e-come-integrare-i-social-nel-proprio-business
SUMMARY:Social Commerce: Cos'è\, quali sono i vantaggi per l’e-commerce 
 e come integrare i social nel proprio business -  - 3 Set 21 10:30
DESCRIPTION:Analizziamo perché i social sono diventati fondamentali per le
  strategie omnichannel di un e-commerce e di come la pandemia ha modificat
 o i comportamenti dei consumatori\, trasformando il social commerce in un 
 fenomeno colossale.
ATTACH;FMTTYPE=image/jpeg:https://ecampus.aicel.org/wp-content/uploads/AIC
 EL-Webinar-3-settembre-nl.png
CATEGORIES:Vendere Grazie al Digitale
END:VEVENT
BEGIN:VTIMEZONE
TZID:Europe/Rome
X-LIC-LOCATION:Europe/Rome
BEGIN:DAYLIGHT
DTSTART:20210328T030000
TZOFFSETFROM:+0100
TZOFFSETTO:+0200
TZNAME:CEST
END:DAYLIGHT
END:VTIMEZONE
END:VCALENDAR