BEGIN:VCALENDAR
VERSION:2.0
PRODID:-//wp-events-plugin.com//7.2.3.1//EN
BEGIN:VEVENT
UID:56@ecampus.aicel.org
DTSTART:20150402T110000Z
DTEND:20150402T120000Z
DTSTAMP:20150325T104719Z
URL:https://ecampus.aicel.org/corsi/smau-padova-le-garanzie-nelle-vendite-
 online
SUMMARY:Smau Padova - Le garanzie nelle vendite online - Padova\, SMAU - 2 
 Apr 15 13:00
DESCRIPTION:Le Garanzie nelle vendite on line\n\nRelatore: Avv. Giorgio Ped
 razzi\n\nGiovedì 2 aprile ore 13.00\n\nArena Smart Communities - Padova\
 n\nPer iscrizioni: http://www.smau.it/padova15/schedules/le-garanzie-nell
 e-vendite-online/\n\n&nbsp\;
CATEGORIES:Vendere Grazie al Digitale
LOCATION:Padova\, SMAU\, N. Tommaseo\, 59\, Padova\, PD\, 35131\, Veneto\, 
 Italia
GEO:45.4137995;11.888617100000033
X-APPLE-STRUCTURED-LOCATION;VALUE=URI;X-ADDRESS=N. Tommaseo\, 59\, Padova\,
  PD\, 35131\, Veneto\, Italia;X-APPLE-RADIUS=100;X-TITLE=Padova\, SMAU:geo
 :45.4137995,11.888617100000033
END:VEVENT
END:VCALENDAR