BEGIN:VCALENDAR
VERSION:2.0
PRODID:-//wp-events-plugin.com//7.2.3.1//EN
BEGIN:VEVENT
UID:62@ecampus.aicel.org
DTSTART:20151210T070000Z
DTEND:20151211T160000Z
DTSTAMP:20150430T163423Z
URL:https://ecampus.aicel.org/corsi/smau-napoli-corso-ecommerce
SUMMARY:Corso eCommerce - Napoli\, SMAU - 10 Dic 15 09:00
DESCRIPTION:Corso eCommerce all'interno della Manifestazione SMAU NAPOLI\nI
 ntervento in definizione.\n\n\n\n[caption id="attachment_1526" align="ali
 gnleft" width="150"] SMAU NAPOLI[/caption]\n\nNON HAI IL BIGLIETTO PER SM
 AU? TE LO REGALA AICEL!\nL'ingresso a SMAU NAPOLI è offerto da AICEL - A
 ssociazione Italiana Commercio Elettronico.\nPer entrare gratuitamente\, r
 enderemo disponibili i biglietti VIP 
CATEGORIES:Gli aspetti pratici dell’e-commerce,Vendere Grazie al
 Digitale
LOCATION:Napoli\, SMAU\, Viale Kennedy\, 54\, Napoli\, NA\, 80125\, Campani
 a\, Italia
GEO:40.8262118;14.186974299999974
X-APPLE-STRUCTURED-LOCATION;VALUE=URI;X-ADDRESS=Viale Kennedy\, 54\, Napoli
 \, NA\, 80125\, Campania\, Italia;X-APPLE-RADIUS=100;X-TITLE=Napoli\, SMAU
 :geo:40.8262118,14.186974299999974
END:VEVENT
END:VCALENDAR