BEGIN:VCALENDAR
VERSION:2.0
PRODID:-//wp-events-plugin.com//7.2.3.1//EN
BEGIN:VEVENT
UID:63@ecampus.aicel.org
DTSTART:20151021T070000Z
DTEND:20151023T160000Z
DTSTAMP:20150430T162715Z
URL:https://ecampus.aicel.org/corsi/smau-milano-corso-ecommerce
SUMMARY:Corso eCommerce - Milano\, SMAU - 21 Ott 15 09:00
DESCRIPTION:Corso eCommerce all'interno della Manifestazione SMAU MILANO\n
 Intervento in definizione.\n\n\n\n[caption id="attachment_1526" align="al
 ignleft" width="150"] SMAU MILANO[/caption]\n\nNON HAI IL BIGLIETTO PER S
 MAU? TE LO REGALA AICEL!\nL'ingresso a SMAU MILANO è offerto da AICEL - 
 Associazione Italiana Commercio Elettronico.\nPer entrare gratuitamente\, 
 renderemo disponibili i biglietti VIP 
CATEGORIES:Gli aspetti pratici dell’e-commerce,Vendere Grazie al
 Digitale
LOCATION:Milano\, SMAU\, Viale Scarampo\, Milano\, MI\, 20148\, Lombardia\,
  Italia
GEO:45.4847859;9.145501999999965
X-APPLE-STRUCTURED-LOCATION;VALUE=URI;X-ADDRESS=Viale Scarampo\, Milano\, M
 I\, 20148\, Lombardia\, Italia;X-APPLE-RADIUS=100;X-TITLE=Milano\, SMAU:ge
 o:45.4847859,9.145501999999965
END:VEVENT
END:VCALENDAR