BEGIN:VCALENDAR
VERSION:2.0
PRODID:-//wp-events-plugin.com//7.2.3.1//EN
BEGIN:VEVENT
UID:60@ecampus.aicel.org
DTSTART:20150604T070000Z
DTEND:20150605T160000Z
DTSTAMP:20150430T160217Z
URL:https://ecampus.aicel.org/corsi/smau-bologna-corso-ecommerce
SUMMARY:Corso eCommerce - Bologna\, SMAU - 4 Giu 15 09:00
DESCRIPTION:Corso eCommerce all'interno della Manifestazione SMAU BOLOGNA\n
 Intervento in definizione.\n\n\n\n[caption id="attachment_1526" align="al
 ignleft" width="150"] SMAU BOLOGNA[/caption]\n\nNON HAI IL BIGLIETTO PER S
 MAU? TE LO REGALA AICEL!\nL'ingresso a SMAU BOLOGNA è offerto da AICEL -
  Associazione Italiana Commercio Elettronico.\nPer entrare gratuitamente\,
  renderemo disponibili i biglietti VIP 
CATEGORIES:Gli aspetti pratici dell’e-commerce,Vendere Grazie al
 Digitale
LOCATION:Bologna\, SMAU\, Via della FIera\, 20\, Bologna\, BO\, 40127\, Emi
 lia\, Italia
GEO:44.5100997;11.36948469999993
X-APPLE-STRUCTURED-LOCATION;VALUE=URI;X-ADDRESS=Via della FIera\, 20\, Bolo
 gna\, BO\, 40127\, Emilia\, Italia;X-APPLE-RADIUS=100;X-TITLE=Bologna\, SM
 AU:geo:44.5100997,11.36948469999993
END:VEVENT
END:VCALENDAR