BEGIN:VCALENDAR
VERSION:2.0
PRODID:-//wp-events-plugin.com//7.2.3.1//EN
BEGIN:VEVENT
UID:71@ecampus.aicel.org
DTSTART:20170609T130000Z
DTEND:20170609T140000Z
DTSTAMP:20170609T123326Z
URL:https://ecampus.aicel.org/corsi/smau-bologna-2017
SUMMARY:Aprire un e-commerce: che fare? - Bologna\, SMAU - 9 Giu 17 15:00
DESCRIPTION:“Nulla è inevitabile tranne la morte e le tasse”\n Ma sar
 à proprio vero?\n\nRelatore: Daniele Trolese\n\nLocation: SMAU\, Arena Op
 en Innovation\, Bologna Fiere\n\nIl workshop è diviso in due parti\, la p
 rima fornirà le informazioni necessarie per potersi districare attraverso
  la giungla normativa\, burocratica e fiscale sia nella fase di apertura c
 he durante la vita di un’attività di commercio elettronico\; la seconda
  parte\,attraverso un esempio pratico\, fornirà un primo approccio a stru
 menti e strategie utili a tutte quelle imprese (anche non internet) che vo
 gliono pagare meno tasse\, imposte\, contributi.\n\n 	Adempimenti amminist
 rativi e burocratici: che tipo di comunicazioni effettuare e a quali enti?
 \n 	Gli adempimenti fiscali nel commercio elettronico\n 	Regime forfettari
 o: quando conviene?\n 	Commercio elettronico diretto e indiretto: molte si
 militudini\, ma qualche grossa differenza\n 	Prestazioni e cessioni a priv
 ati UE: Mini One-Stop-Shop (MOSS) e soglie di fatturato UE\n 	PAGO TROPPE 
 TASSE! Segreti per tagliarle lecitamente e drasticamente\n\n&nbsp\;\n\nISC
 RIZIONE GRATUITA dal portale SMAU: ISCRIVITI!\n\n\nNON HAI IL BIGLIETTO P
 ER SMAU?\nTE LO REGALA AICEL!\nL'ingresso a SMAU BOLOGNA è offerto da AI
 CEL - Associazione Italiana Commercio Elettronico.\nPer entrare gratuitame
 nte\, usa i nostri Biglietti VIP!
CATEGORIES:Gli aspetti pratici dell’e-commerce,Vendere Grazie al
 Digitale
LOCATION:Bologna\, SMAU\, Via della FIera\, 20\, Bologna\, BO\, 40127\, Emi
 lia\, Italia
GEO:44.5100997;11.36948469999993
X-APPLE-STRUCTURED-LOCATION;VALUE=URI;X-ADDRESS=Via della FIera\, 20\, Bolo
 gna\, BO\, 40127\, Emilia\, Italia;X-APPLE-RADIUS=100;X-TITLE=Bologna\, SM
 AU:geo:44.5100997,11.36948469999993
END:VEVENT
END:VCALENDAR