BEGIN:VCALENDAR
VERSION:2.0
PRODID:-//wp-events-plugin.com//7.2.3.1//EN
BEGIN:VEVENT
UID:54@ecampus.aicel.org
DTSTART:20141211T130000Z
DTEND:20141211T140000Z
DTSTAMP:20141203T232930Z
URL:https://ecampus.aicel.org/corsi/sito-ecommerce-privacy-cookies-worksho
 p-gratuito
SUMMARY:Sito eCommerce: Privacy & Cookies [Workshop Gratuito] - Napoli\, SM
 AU - 11 Dic 14 15:00
DESCRIPTION:Come mettere in regola con la privacy un sito eCommerce?\nPerch
 é è importante per un’azienda la tutela della privacy?\nPonendosi nell
 ’ottica dell’azienda che promuove o vende su internet i propri prodott
 i\, l’intervento analizzerà le problematiche connesse al trattamento de
 i dati personali fornendo i necessari orientamenti sugli adempimenti richi
 esti dalla normativa in vigore\, evitando gli errori più comuni.\nL’int
 ervento intende fornire un quadro chiaro sulla gestione dei dati\, analizz
 are con un approccio pratico i contenuti minimi di una Privacy Policy e co
 nsentire un utilizzo dei cookies che rispetti il provvedimento generale de
 l Garante Privacy.\n\n[caption id="attachment_1526" align="alignleft" widt
 h="150"] SMAU NAPOLI[/caption]\n\n&nbsp\;\n\nIscrizione da questo link:  
 http://www.smau.it/napoli14/schedules/sito-web-privacy-cookies/\n\nPer acc
 edere gratuitamente a SMAU NAPOLI segui questo link: http://www.smau.it/i
 nvite/na14/aicel2/
CATEGORIES:Gli aspetti pratici dell’e-commerce
LOCATION:Napoli\, SMAU\, Viale Kennedy\, 54\, Napoli\, NA\, 80125\, Campani
 a\, Italia
GEO:40.8262118;14.186974299999974
X-APPLE-STRUCTURED-LOCATION;VALUE=URI;X-ADDRESS=Viale Kennedy\, 54\, Napoli
 \, NA\, 80125\, Campania\, Italia;X-APPLE-RADIUS=100;X-TITLE=Napoli\, SMAU
 :geo:40.8262118,14.186974299999974
END:VEVENT
END:VCALENDAR