BEGIN:VCALENDAR
VERSION:2.0
PRODID:-//wp-events-plugin.com//7.2.3.1//EN
BEGIN:VEVENT
UID:135@ecampus.aicel.org
DTSTART;TZID=Europe/Rome:20201211T110000
DTEND;TZID=Europe/Rome:20201211T123000
DTSTAMP:20231122T153144Z
URL:https://ecampus.aicel.org/corsi/schede-prodotti-ecommerce-analisi-comp
 osizione-e-realizzazione-efficace
SUMMARY:Schede prodotti ecommerce: analisi\, composizione e realizzazione e
 fficace -  - 11 Dic 20 11:00
DESCRIPTION:Come ottimizzare una scheda prodotto per aumentare le conversio
 ni. La product page come strumento per aumentare le conversioni e rendere 
 performante il proprio ecommerce
ATTACH;FMTTYPE=image/jpeg:https://ecampus.aicel.org/wp-content/uploads/sch
 ede2.jpeg
CATEGORIES:Gli aspetti pratici dell’e-commerce
END:VEVENT
BEGIN:VTIMEZONE
TZID:Europe/Rome
X-LIC-LOCATION:Europe/Rome
BEGIN:STANDARD
DTSTART:20201025T020000
TZOFFSETFROM:+0200
TZOFFSETTO:+0100
TZNAME:CET
END:STANDARD
END:VTIMEZONE
END:VCALENDAR