BEGIN:VCALENDAR
VERSION:2.0
PRODID:-//wp-events-plugin.com//7.2.3.1//EN
BEGIN:VEVENT
UID:162@ecampus.aicel.org
DTSTART;TZID=Europe/Rome:20220218T143000
DTEND;TZID=Europe/Rome:20220218T153000
DTSTAMP:20240212T001039Z
URL:https://ecampus.aicel.org/corsi/riforma-codice-del-consumo-le-novita-i
 n-materia-di-garanzia-legale
SUMMARY:Riforma Codice del Consumo: le novità in materia di garanzia legal
 e -  - 18 Feb 22 14:30
DESCRIPTION:Il Decreto Legislativo 4 novembre 2021 n. 170 ha introdotto una
  serie di modifiche al Codice del Consumo. In questa sessione di formazion
 e interattiva chiariremo tutte le tue perplessità.
ATTACH;FMTTYPE=image/jpeg:https://ecampus.aicel.org/wp-content/uploads/aic
 el-corso-brognoli-nl.jpg
CATEGORIES:Gli aspetti pratici dell’e-commerce
END:VEVENT
BEGIN:VTIMEZONE
TZID:Europe/Rome
X-LIC-LOCATION:Europe/Rome
BEGIN:STANDARD
DTSTART:20211031T020000
TZOFFSETFROM:+0200
TZOFFSETTO:+0100
TZNAME:CET
END:STANDARD
END:VTIMEZONE
END:VCALENDAR