BEGIN:VCALENDAR
VERSION:2.0
PRODID:-//wp-events-plugin.com//7.2.3.1//EN
BEGIN:VEVENT
UID:152@ecampus.aicel.org
DTSTART;TZID=Europe/Rome:20210521T110000
DTEND;TZID=Europe/Rome:20210521T120000
DTSTAMP:20240128T085148Z
URL:https://ecampus.aicel.org/corsi/ricerca-ups-e-commerce-2021
SUMMARY:Ricerca UPS e-commerce 2021: come migliorare la tua attività e con
 quistare clienti fedeli -  - 21 Mag 21 11:00
DESCRIPTION:Lotta Vikman ci illustrerà i risultati di una ricerca condotta
  a gennaio del 2021 su 10.000 consumatori di otto mercati europei\, focali
 zzando l'attenzione sui risultati italiani.
ATTACH;FMTTYPE=image/jpeg:https://ecampus.aicel.org/wp-content/uploads/AIC
 EL-Webinar-21-maggio.png
CATEGORIES:Vendere Grazie al Digitale
END:VEVENT
BEGIN:VTIMEZONE
TZID:Europe/Rome
X-LIC-LOCATION:Europe/Rome
BEGIN:DAYLIGHT
DTSTART:20210328T030000
TZOFFSETFROM:+0100
TZOFFSETTO:+0200
TZNAME:CEST
END:DAYLIGHT
END:VTIMEZONE
END:VCALENDAR