BEGIN:VCALENDAR
VERSION:2.0
PRODID:-//wp-events-plugin.com//7.2.3.1//EN
BEGIN:VEVENT
UID:121@ecampus.aicel.org
DTSTART;TZID=Europe/Rome:20200717T170000
DTEND;TZID=Europe/Rome:20200717T180000
DTSTAMP:20231122T153001Z
URL:https://ecampus.aicel.org/corsi/registro-dei-trattamenti-un-adempiment
 o-del-gdpr-che-ci-riguarda-da-vicino
SUMMARY:Registro dei Trattamenti: un adempimento del GDPR che ci riguarda d
 a vicino -  - 17 Lug 20 17:00
DESCRIPTION:E’ un documento obbligatorio per chi fa eCommerce e tratta da
 ti e contiene le principali informazioni (specificatamente individuate dal
 l’art. 30 del RGPD) relative alle operazioni di trattamento svolte dal t
 itolare e\, se nominato\, dal responsabile del trattamento
ATTACH;FMTTYPE=image/jpeg:https://ecampus.aicel.org/wp-content/uploads/reg
 istro-trattamenti.jpg
CATEGORIES:Gli aspetti pratici dell’e-commerce
LOCATION:https://aicel.clickmeeting.com/registro-dei-trattamenti-un-adempim
 ento-del-gdpr-che-ci-riguarda-da-vicino
END:VEVENT
BEGIN:VTIMEZONE
TZID:Europe/Rome
X-LIC-LOCATION:Europe/Rome
BEGIN:DAYLIGHT
DTSTART:20200329T030000
TZOFFSETFROM:+0100
TZOFFSETTO:+0200
TZNAME:CEST
END:DAYLIGHT
END:VTIMEZONE
END:VCALENDAR