BEGIN:VCALENDAR
VERSION:2.0
PRODID:-//wp-events-plugin.com//7.2.3.1//EN
BEGIN:VEVENT
UID:151@ecampus.aicel.org
DTSTART;TZID=Europe/Rome:20210702T093000
DTEND;TZID=Europe/Rome:20210702T113000
DTSTAMP:20231122T152801Z
URL:https://ecampus.aicel.org/corsi/registro-dei-trattamenti-come-crearlo-
 e-gestirlo
SUMMARY:Registro dei Trattamenti: come crearlo e gestirlo -  - 2 Lug 21 09:
 30
DESCRIPTION:E’ un documento obbligatorio per chi fa eCommerce: in questo 
 corso impareremo come crearlo e come gestirlo correttamente
ATTACH;FMTTYPE=image/jpeg:https://ecampus.aicel.org/wp-content/uploads/AIC
 EL-Avv-Manuela-Borgese-nl-1.png
CATEGORIES:Gli aspetti pratici dell’e-commerce
END:VEVENT
BEGIN:VTIMEZONE
TZID:Europe/Rome
X-LIC-LOCATION:Europe/Rome
BEGIN:DAYLIGHT
DTSTART:20210328T030000
TZOFFSETFROM:+0100
TZOFFSETTO:+0200
TZNAME:CEST
END:DAYLIGHT
END:VTIMEZONE
END:VCALENDAR