BEGIN:VCALENDAR
VERSION:2.0
PRODID:-//wp-events-plugin.com//7.2.3.1//EN
BEGIN:VEVENT
UID:154@ecampus.aicel.org
DTSTART;TZID=Europe/Rome:20210917T100000
DTEND;TZID=Europe/Rome:20210917T120000
DTSTAMP:20231122T153235Z
URL:https://ecampus.aicel.org/corsi/registro-dei-trattamenti-come-crearlo-
 e-gestirlo-settembre
SUMMARY:Registro dei Trattamenti: come crearlo e gestirlo -  - 17 Set 21 10
 :00
DESCRIPTION:È un documento obbligatorio per chi fa eCommerce: in questo co
 rso impareremo come crearlo e come gestirlo correttamente
ATTACH;FMTTYPE=image/jpeg:https://ecampus.aicel.org/wp-content/uploads/AIC
 EL-Avv-Manuela-Borgese-nl-1.png
CATEGORIES:Gli aspetti pratici dell’e-commerce
END:VEVENT
BEGIN:VTIMEZONE
TZID:Europe/Rome
X-LIC-LOCATION:Europe/Rome
BEGIN:DAYLIGHT
DTSTART:20210328T030000
TZOFFSETFROM:+0100
TZOFFSETTO:+0200
TZNAME:CEST
END:DAYLIGHT
END:VTIMEZONE
END:VCALENDAR