BEGIN:VCALENDAR
VERSION:2.0
PRODID:-//wp-events-plugin.com//7.2.3.1//EN
BEGIN:VEVENT
UID:159@ecampus.aicel.org
DTSTART;TZID=Europe/Rome:20211202T100000
DTEND;TZID=Europe/Rome:20211202T120000
DTSTAMP:20231122T153304Z
URL:https://ecampus.aicel.org/corsi/registro-dei-trattamenti-come-crearlo-
 e-gestirlo-dicembre-2021
SUMMARY:Registro dei Trattamenti: come crearlo e gestirlo  (2^ edizione) - 
  - 2 Dic 21 10:00
DESCRIPTION:È un documento obbligatorio per chi fa eCommerce: in questo co
 rso impareremo come crearlo e come gestirlo correttamente
ATTACH;FMTTYPE=image/jpeg:https://ecampus.aicel.org/wp-content/uploads/AIC
 EL-Avv-Manuela-Borgese-nl-dicembre.png
CATEGORIES:Gli aspetti pratici dell’e-commerce
END:VEVENT
BEGIN:VTIMEZONE
TZID:Europe/Rome
X-LIC-LOCATION:Europe/Rome
BEGIN:STANDARD
DTSTART:20211031T020000
TZOFFSETFROM:+0200
TZOFFSETTO:+0100
TZNAME:CET
END:STANDARD
END:VTIMEZONE
END:VCALENDAR