BEGIN:VCALENDAR
VERSION:2.0
PRODID:-//wp-events-plugin.com//7.2.3.1//EN
BEGIN:VEVENT
UID:66@ecampus.aicel.org
DTSTART:20160527T130000Z
DTEND:20160527T140000Z
DTSTAMP:20231122T152533Z
URL:https://ecampus.aicel.org/corsi/recesso-come-gestirlo-al-meglio
SUMMARY:Condizioni Di Recesso: Una Garanzia (anche) Per Il Merchant - Event
 o On Line - 27 Mag 16 15:00
DESCRIPTION:Un Hangout di 1 ora per approfondire il diritto di ripensament
 o (c.d. Recesso) offerto ai consumatori così come previsto dal Codice del
  Consumo.\n\nDOCENTE: LUIGI CRISTIANO\,  AICEL\n\nSISTEMA: Hangout (è ne
 cessario un account Google+ )\n\nPOSTI DISPONIBILI: 10\n\nIl diritto di ri
 pensamento ha subito notevoli modifiche nel corso degli anni\, fino ad arr
 ivare ad una sua completa ed esaustiva normazione con il D.Lgs. 21/2014.\n
 Della vecchia normativa\, però\, non è sopravvissuto praticamente niente
 : è quindi importantissimo aggiornare il prima possibile le proprie condi
 zioni di vendita e di recesso: infatti\, per quanto le condizioni di reces
 so possano sembrare solo interesse del Consumatore\, queste sono anche una
  sicurezza e una garanzia per il merchant.\nUna corretta informazione sul 
 diritto di recesso\, con la chiara indicazione delle tempistiche\, delle m
 odalità e delle eccezioni\, serve ad evitare di esporre il nostro negozio
  a responsabilità che potrebbero protrarsi per mesi o addirittura per ann
 i!\nIn questo breve corso ci occuperemo di dare delle linee chiare sulle i
 nformazioni obbligatorie di base\, necessarie a garantire la tutela del Co
 nsumatore e\, soprattutto\, la tutela del negoziante.\n\nPROGRAMMA\n\n1. L
 e informazioni minime ex D.Lgs. 206/2005\n2. La lettera di recesso\n3. Res
 o e responsabilità\n4. Rimborso e tempistiche\n5. Esclusioni\n6. Sanzioni
 \n7. Question Time\n\n&nbsp\;\nA CHI SI RIVOLGE?\nImprenditori\, aziende\,
  PMI che intendono entrare nel mondo ecommerce.\neStore Manager e Web mark
 eting managers.\nLiberi professionisti e consulenti aziendali.\n\n
ATTACH;FMTTYPE=image/jpeg:https://ecampus.aicel.org/wp-content/uploads/rec
 esso1.jpg
CATEGORIES:Gli aspetti pratici dell’e-commerce
LOCATION:Evento On Line\, Google\, Webinar [Meet]\, Italia
X-APPLE-STRUCTURED-LOCATION;VALUE=URI;X-ADDRESS=Google\, Webinar [Meet]\, I
 talia;X-APPLE-RADIUS=100;X-TITLE=Evento On Line:geo:0,0
END:VEVENT
END:VCALENDAR