BEGIN:VCALENDAR
VERSION:2.0
PRODID:-//wp-events-plugin.com//7.2.3.1//EN
BEGIN:VEVENT
UID:107@ecampus.aicel.org
DTSTART:20181025T140000Z
DTEND:20181025T153000Z
DTSTAMP:20231122T151615Z
URL:https://ecampus.aicel.org/corsi/prospettive-europee-nel-commercio-elet
 tronico
SUMMARY:Prospettive Europee nel Commercio Elettronico - Evento On Line - 25
  Ott 18 16:00
DESCRIPTION:La fine del geoblocking segna l’inizio di una nuova frontiera
  dell’ecommerce\, l’abbattimento delle barriere nazionali che spinge i
  merchant ad un nuovo approccio basato su una visione globale della vendit
 a. \nNessun settore è sottratto a tale rivoluzione dal legale al fiscale\
 , passando per i pagamenti e tutta la supply chain
ATTACH;FMTTYPE=image/jpeg:https://ecampus.aicel.org/wp-content/uploads/dig
 ital_single_market21.png
CATEGORIES:Gli aspetti pratici dell’e-commerce
LOCATION:Evento On Line\, Google\, Webinar [Meet]\, Italia
X-APPLE-STRUCTURED-LOCATION;VALUE=URI;X-ADDRESS=Google\, Webinar [Meet]\, I
 talia;X-APPLE-RADIUS=100;X-TITLE=Evento On Line:geo:0,0
END:VEVENT
END:VCALENDAR