BEGIN:VCALENDAR
VERSION:2.0
PRODID:-//wp-events-plugin.com//7.2.3.1//EN
BEGIN:VEVENT
UID:127@ecampus.aicel.org
DTSTART:20201009T103000Z
DTEND:20201009T113000Z
DTSTAMP:20231122T153058Z
URL:https://ecampus.aicel.org/corsi/privacy-ed-ecommerce
SUMMARY:Privacy ed eCommerce -  - 9 Ott 20 12:30
DESCRIPTION:la delicata tematica del trattamento dati personali nell'ambito
  del commercio elettronico. Il focus dell'intervento è soprattutto quello
  di evidenziare gli aspetti particolarmente problematici che riguardano le
  infrastrutture di vendita\, i sistemi di trattamento dati relativi alle a
 ttività di marketing\, lo stato dell'arte con riguardo al rispetto dei pr
 incipi della normativa vigente.
ATTACH;FMTTYPE=image/jpeg:https://ecampus.aicel.org/wp-content/uploads/igf
 -2020-italia.jpg
CATEGORIES:Convegni,Tavola Rotonda
LOCATION:http://www.igfitalia2020.it/registrazione
END:VEVENT
END:VCALENDAR