BEGIN:VCALENDAR
VERSION:2.0
PRODID:-//wp-events-plugin.com//7.2.3.1//EN
BEGIN:VEVENT
UID:125@ecampus.aicel.org
DTSTART:20201007T143000Z
DTEND:20201007T153000Z
DTSTAMP:20231122T153029Z
URL:https://ecampus.aicel.org/corsi/principi-ed-etica-nellutilizzo-delle-t
 ecnologie-di-intelligenza-artificiale-ai-nei-processi-interni-e-decisional
 i
SUMMARY:Principi Ed Etica Nell'utilizzo Delle Tecnologie Di Intelligenza Ar
 tificiale (Ai) Nei Processi Interni E Decisionali -  - 7 Ott 20 16:30
DESCRIPTION:Il workshop affronta la delicata ed emergente tematica delle te
 cnologie di intelligenza artificiale (AI) nei processi interni e decisiona
 li. L’ambito si rileva di delicata trattazione in ragione della forte pe
 rvasività delle tecnologie di AI e l’indiscusso avanzamento delle relat
 ive tecnologie\, che diventano giorno dopo giorno sempre più applicabili 
 ed utilizzate. Dal punto di vista aziendale\, l'intelligenza artificiale i
 nteressa una serie di tecnologie in grado di condurre una maggiore produtt
 ività attraverso vantaggi quali: previsione\, processo decisionale empiri
 co\, automazione delle operazioni\, servizio clienti personalizzato\, espe
 rienze utente migliorate\, ottimizzazione di processi e prodotti\, nuovi m
 odelli di business\, maggiore accesso a servizi e persino miglioramento de
 lla salute ambientale e pubblica.\nPer tale ragione\, il legislatore europ
 eo ha impostato un piano d’intervento ben definito al fine di regolament
 are i principali aspetti e tutelare i diritti degli interessati.\n\nInfatt
 i di recente\, la Commissione Europea ha annunciato che nella programmazio
 ne delle attività 2020 verrà inserita una "Strategia europea per l'Europ
 a – Adatta all'era digitale"\, impostando un piano per affrontare le sfi
 de e le opportunità derivanti dalla digitalizzazione\, anche attraverso u
 na vera e propria regolamentazione dell’economia digitale\, sui temi aff
 rontati dalla direttiva sul commercio elettronico e della piattaforma-impr
 esa.\n\nL’evento mira quindi ad individuare lo stato dell’arte rispett
 o a questi obiettivi\, evidenziando i potenziali margini di crescita\, ris
 petto ai quali verranno individuati gli aspetti più problematici su cui i
 ntervenire.\n\nModeratore\n\nRenato Marafioti\n\nRelatori\n\nRenato Mara
 fioti\nManuela Borgese\nAntonio Dattola\nGiuseppe D'Acquisto\nFrancesco
  Pizzetti\n\n&nbsp\;\nBIO RELATORI\nManuela Luciana Borgese \n\nVicepre
 sidente AICEL\, associazione di categoria del commercio elettronico\, di c
 ui cura la rappresentanza. Ricopre il ruolo di consigliere in seno al Cons
 iglio direttivo di AICA Calabria. Consulente privacy per Enti e PMI.\n\nGi
 useppe D'Acquisto\n\nfunzionario direttivo presso l'Autorità Garante per
  la Protezione dei Dati Personali\, delegato nazionale del Garante per le 
 questioni tecnologiche all'interno del Comitato europeo per la protezione 
 dei dati (EDPB). È stato relatore di molti pareri dell’EDPB e documenti
  di policy dell'UE (tra questi\, le linee guida sulle tecniche di anonimiz
 zazione\, e più recentemente le linee guida dell’EDPB sull'uso dei dati
  di localizzazione nell'ambito dei sistemi di contact tracing per la lotta
  contro l’epidemia covid). Ha conseguito un dottorato di ricerca in inge
 gneria ed è titolare degli insegnamenti di Linguaggio e logica delle macc
 hine e di Intelligenza Artificiale presso l'Università LUISS di Roma.\n\n
 Antonio Dattola\n\nAgronomo e Dottore di Ricerca\, oltre a svolgere attivi
 tà di libera professione\, collabora con l'Università Mediterranea di R
 eggio Calabria in qualità di\nassegnista di ricerca\; è altresì membro 
 dello spin off accademico Agrinside Med srl.\nRicopre il ruolo di consigli
 ere in seno al Consiglio direttivo di AICA Calabria.\n\nRenato Salvatore 
 Marafioti \n\nDottore in Giurisprudenza. Presidente Associazione Cultural
 e Format. Presidente Aica Calabria. Docente in discipline informatiche.\n\
 nFrancesco Pizzetti \n\nGià Garante per la protezione dei dati personal
 i\, giurista e Professore emerito di diritto costituzionale nell'Universit
 à di Torino
ATTACH;FMTTYPE=image/jpeg:https://ecampus.aicel.org/wp-content/uploads/igf
 -2020-italia.jpg
CATEGORIES:Convegni,Tavola Rotonda
LOCATION:http://www.igfitalia2020.it/registrazione
END:VEVENT
END:VCALENDAR