BEGIN:VCALENDAR
VERSION:2.0
PRODID:-//wp-events-plugin.com//7.2.3.1//EN
BEGIN:VEVENT
UID:88@ecampus.aicel.org
DTSTART:20170608T120000Z
DTEND:20170608T130000Z
DTSTAMP:20170605T125951Z
URL:https://ecampus.aicel.org/corsi/persone-al-centro-della-conversione-di
 gitale-anche-in-e-commerce
SUMMARY:Persone al centro (della conversione digitale\, anche in e-commerce
 ) - Bologna\, SMAU - 8 Giu 17 14:00
DESCRIPTION:\n\nRelatore: Marco Volpe\n\nLocation: SMAU\, Arena SMAU ICT\,
  Bologna Fiere\n\nScopo dell'intervento è riportare l'attenzione degli op
 eratori economici e del settore digital sulle persone che rappresentano il
  vero valore delle imprese commerciali italiane. Sia sugli operatori di ve
 ndita che sugli operatori di acquisto. Vendere online oggi significa trasm
 ettere entusiasmo attraverso gli strumenti della comunicazione digitale. P
 er riuscire a vincere la sfida contro i grandi brand della vendita america
 ni e cinesi le persone devono tornare al centro della comunicazione lascia
 ndo da parte parole come prezzo\, qualità e urgenza. Casi pratici di succ
 esso di aziende che hanno visto esplodere il fatturato mettendo in evidenz
 a le persone che "creano" valore percepito ed erogato.\n\n&nbsp\;\n\nISCRI
 ZIONE GRATUITA dal portale SMAU: clicca qui!\n\n\nNON HAI IL BIGLIETTO PE
 R SMAU?\nTE LO REGALA AICEL!\nL'ingresso a SMAU BOLOGNA è offerto da AIC
 EL - Associazione Italiana Commercio Elettronico.\nPer entrare gratuitamen
 te\, usa i nostri Biglietti VIP!
CATEGORIES:Gli aspetti pratici dell’e-commerce,Vendere Grazie al
 Digitale
LOCATION:Bologna\, SMAU\, Via della FIera\, 20\, Bologna\, BO\, 40127\, Emi
 lia\, Italia
GEO:44.5100997;11.36948469999993
X-APPLE-STRUCTURED-LOCATION;VALUE=URI;X-ADDRESS=Via della FIera\, 20\, Bolo
 gna\, BO\, 40127\, Emilia\, Italia;X-APPLE-RADIUS=100;X-TITLE=Bologna\, SM
 AU:geo:44.5100997,11.36948469999993
END:VEVENT
END:VCALENDAR