BEGIN:VCALENDAR
VERSION:2.0
PRODID:-//wp-events-plugin.com//7.2.3.1//EN
BEGIN:VEVENT
UID:199@ecampus.aicel.org
DTSTART;TZID=Europe/Rome:20240927T120000
DTEND;TZID=Europe/Rome:20240927T190000
DTSTAMP:20240909T142734Z
URL:https://ecampus.aicel.org/corsi/new-deals-festival-2024
SUMMARY:New Deals Festival 2024 - Desenzano del Garda - Castello - 27 Set 2
 4 12:00
DESCRIPTION:Quali sono le abilità e le caratteristiche che devono avere gl
 i imprenditori di successo al giorno d'oggi?\n\nScopritelo con i fantastic
 i ospiti di New Deals 2024.
ATTACH;FMTTYPE=image/jpeg:https://ecampus.aicel.org/wp-content/uploads/new
 -deals.jpg
CATEGORIES:Convegni
LOCATION:Desenzano del Garda - Castello\, 63 Via Castello\, Desenzano del G
 arda\, BS\, 25015\, Lombardia\, Italia
X-APPLE-STRUCTURED-LOCATION;VALUE=URI;X-ADDRESS=63 Via Castello\, Desenzano
  del Garda\, BS\, 25015\, Lombardia\, Italia;X-APPLE-RADIUS=100;X-TITLE=De
 senzano del Garda - Castello:geo:0,0
END:VEVENT
BEGIN:VTIMEZONE
TZID:Europe/Rome
X-LIC-LOCATION:Europe/Rome
BEGIN:DAYLIGHT
DTSTART:20240331T030000
TZOFFSETFROM:+0100
TZOFFSETTO:+0200
TZNAME:CEST
END:DAYLIGHT
END:VTIMEZONE
END:VCALENDAR