BEGIN:VCALENDAR
VERSION:2.0
PRODID:-//wp-events-plugin.com//7.2.3.1//EN
BEGIN:VEVENT
UID:38@ecampus.aicel.org
DTSTART:20130722T073000Z
DTEND:20130722T150000Z
DTSTAMP:20130719T141426Z
URL:https://ecampus.aicel.org/corsi/marketing-locale-e-digitale-per-il-set
 tore-turistico
SUMMARY:Marketing Locale e Digitale per il Settore Turistico - Desenzano\, 
 Hotel Nazionale - 22 Lug 13 09:30
DESCRIPTION:La forza del turismo online è anche però il suo limite: a fro
 nte di una penetrazione sul totale del comparto turistico superiore al 20%
 \, presenta un livello di intermediazione delle OTA ("Online travel agenci
 es") e dei portali alberghieri superiore a tutte le altre categorie del co
 mmercio elettronico italiano. Per questo motivo\, soprattutto nel turismo 
 occorre capire come gestire al meglio una propria presenza autonoma ed ave
 re\, all'interno dei portali alberghieri\, la presenza più efficace e con
  maggior redditività.
CATEGORIES:Gli aspetti pratici dell’e-commerce,Vendere Grazie al
 Digitale
LOCATION:Desenzano\, Hotel Nazionale\, Viale Marconi\, 23\, Desenzano del G
 arda\, Brescia\, 25015\, Lombardia\, Italia
GEO:45.4684347;10.53603499999997
X-APPLE-STRUCTURED-LOCATION;VALUE=URI;X-ADDRESS=Viale Marconi\, 23\, Desenz
 ano del Garda\, Brescia\, 25015\, Lombardia\, Italia;X-APPLE-RADIUS=100;X-
 TITLE=Desenzano\, Hotel Nazionale:geo:45.4684347,10.53603499999997
END:VEVENT
END:VCALENDAR