BEGIN:VCALENDAR
VERSION:2.0
PRODID:-//wp-events-plugin.com//7.2.3.1//EN
BEGIN:VEVENT
UID:176@ecampus.aicel.org
DTSTART;TZID=Europe/Rome:20240125T160000
DTEND;TZID=Europe/Rome:20240125T170000
DTSTAMP:20240212T000943Z
URL:https://ecampus.aicel.org/corsi/live-shopping-la-nuova-frontiera-del-p
 hygital
SUMMARY:Live Shopping\, la nuova frontiera del phygital -  - 25 Gen 24 16:0
 0
DESCRIPTION:Il Live Shopping è una nuova forma di commercio elettronico ch
 e combina la vendita online con la trasmissione in diretta di video.
ATTACH;FMTTYPE=image/jpeg:https://ecampus.aicel.org/wp-content/uploads/LIV
 E-SHOPPING-AGASUCCI.png
CATEGORIES:Vendere Grazie al Digitale
END:VEVENT
BEGIN:VTIMEZONE
TZID:Europe/Rome
X-LIC-LOCATION:Europe/Rome
BEGIN:STANDARD
DTSTART:20231029T020000
TZOFFSETFROM:+0200
TZOFFSETTO:+0100
TZNAME:CET
END:STANDARD
END:VTIMEZONE
END:VCALENDAR