BEGIN:VCALENDAR
VERSION:2.0
PRODID:-//wp-events-plugin.com//7.2.3.1//EN
BEGIN:VEVENT
UID:128@ecampus.aicel.org
DTSTART;TZID=Europe/Rome:20201023T170000
DTEND;TZID=Europe/Rome:20201023T180000
DTSTAMP:20201023T083644Z
URL:https://ecampus.aicel.org/corsi/lefficacia-dei-trustmark-il-caso-sonos
 icuro
SUMMARY:L'efficacia dei Trustmark: il caso SonoSicuro - Webinar - ClickMeet
 ing - 23 Ott 20 17:00
DESCRIPTION:Christian Forgione racconta la sua esperienza diretta per l'ott
 enimento del sigillo AICEL del suo webstore AMANTIDIVINO e dei vantaggi co
 nseguiti grazie all'esposizione del certificato
ATTACH;FMTTYPE=image/jpeg:https://ecampus.aicel.org/wp-content/uploads/tru
 stmark-forgione-square.jpeg
CATEGORIES:Gli aspetti pratici dell’e-commerce
LOCATION:Webinar - ClickMeeting\, Webinar\, ClickMeeting\, Italia
X-APPLE-STRUCTURED-LOCATION;VALUE=URI;X-ADDRESS=Webinar\, ClickMeeting\, It
 alia;X-APPLE-RADIUS=100;X-TITLE=Webinar - ClickMeeting:geo:0,0
END:VEVENT
BEGIN:VTIMEZONE
TZID:Europe/Rome
X-LIC-LOCATION:Europe/Rome
BEGIN:DAYLIGHT
DTSTART:20200329T030000
TZOFFSETFROM:+0100
TZOFFSETTO:+0200
TZNAME:CEST
END:DAYLIGHT
END:VTIMEZONE
END:VCALENDAR