BEGIN:VCALENDAR
VERSION:2.0
PRODID:-//wp-events-plugin.com//7.2.3.1//EN
BEGIN:VEVENT
UID:57@ecampus.aicel.org
DTSTART:20150414T123000Z
DTEND:20150414T130000Z
DTSTAMP:20231122T152443Z
URL:https://ecampus.aicel.org/corsi/le-regole-privacy-nel-marketing
SUMMARY:Le regole Privacy nel Marketing - Evento On Line - 14 Apr 15 14:30
DESCRIPTION:Come fare On-Line Marketing rispettando le regole ed evitare co
 sì pesanti sanzioni
CATEGORIES:Vendere Grazie al Digitale
LOCATION:Evento On Line\, Google\, Webinar [Meet]\, Italia
X-APPLE-STRUCTURED-LOCATION;VALUE=URI;X-ADDRESS=Google\, Webinar [Meet]\, I
 talia;X-APPLE-RADIUS=100;X-TITLE=Evento On Line:geo:0,0
END:VEVENT
END:VCALENDAR