BEGIN:VCALENDAR
VERSION:2.0
PRODID:-//wp-events-plugin.com//7.2.3.1//EN
BEGIN:VEVENT
UID:93@ecampus.aicel.org
DTSTART:20171024T133000Z
DTEND:20171024T142000Z
DTSTAMP:20171004T153921Z
URL:https://ecampus.aicel.org/corsi/lattrazione-nel-commercio-elettronico-
 come-portare-traffico-di-qualita-al-proprio-ecommerce
SUMMARY:L'Attrazione nel commercio elettronico: Come portare traffico di qu
 alità al proprio ecommerce - Milano\, SMAU - 24 Ott 17 15:30
DESCRIPTION:\n\nRelatore: Fulvio Sarao\n\nLocation: Arena Commercio e Turis
 mo - SMAU Milano\, FieramilanoCity - Padiglione 4\n\nOrario: 24 ottobre 2
 017 - ore 15:30\n\nSi tratta di un viaggio nella creazione di un piano Ma
 rketing il cui scopo è emergere dal flusso caotico di pubblicità nel web
 .\nSi parte dall'indicazione di quali sono i canali di acquisizione traffi
 co. Quelli indicati e che suggerisco sono 24 e \,in base al tempo a dispos
 izione\, analisi di vantaggi e svantaggi degli stessi.\nIl passaggio succe
 ssivo è  l'indicazione delle differenze e come sfruttare le pubblicità 
 testuali e visuali.\nSeguiranno spiegazione ed esempi su "pubblicità con 
 intento di ricerca" e "pubblicità per creare dei bisogni".\nPoi spiegher
 ò come sfruttare al meglio le pubblicità verso il sito\, la targettizzaz
 ione del traffico\, le leve di coinvolgimento emotivo per attirare maggior
  attenzione e generare click qualitativi.\nInfine\, illustrerò come crear
 e un percorso emozionale che sia congruente tra pubblicità e sito.\n\n&nb
 sp\;\n\nISCRIZIONE GRATUITA dal portale SMAU: clicca qui!\n\n\nNON HAI IL
  BIGLIETTO PER SMAU?\nTE LO REGALA AICEL!\nL'ingresso a SMAU BOLOGNA è o
 fferto da AICEL - Associazione Italiana Commercio Elettronico.\nPer entrar
 e gratuitamente\, usa i nostri Biglietti VIP!
ATTACH;FMTTYPE=image/jpeg:https://ecampus.aicel.org/wp-content/uploads/AIC
 EL@SMAU.jpeg
CATEGORIES:Gli aspetti pratici dell’e-commerce,Vendere Grazie al
 Digitale
LOCATION:Milano\, SMAU\, Viale Scarampo\, Milano\, MI\, 20148\, Lombardia\,
  Italia
GEO:45.4847859;9.145501999999965
X-APPLE-STRUCTURED-LOCATION;VALUE=URI;X-ADDRESS=Viale Scarampo\, Milano\, M
 I\, 20148\, Lombardia\, Italia;X-APPLE-RADIUS=100;X-TITLE=Milano\, SMAU:ge
 o:45.4847859,9.145501999999965
END:VEVENT
END:VCALENDAR