BEGIN:VCALENDAR
VERSION:2.0
PRODID:-//wp-events-plugin.com//7.2.3.1//EN
BEGIN:VEVENT
UID:21@ecampus.aicel.org
DTSTART:20120924T073000Z
DTEND:20120924T163000Z
DTSTAMP:20140712T155743Z
URL:https://ecampus.aicel.org/corsi/lanciare-promuovere-sito-ecommerce
SUMMARY:Lanciare e promuovere un sito e-commerce - Sede AICEL - Roma - 24 S
 et 12 09:30
DESCRIPTION:Relatore.\n\nAndrea Boscaro\, The Vortex.\n\nObiettivi.\n\n- At
 tivare il canale digitale all’interno del proprio marketing mix\n- Promu
 overe le vendite utilizzando le tecniche del web-marketing\n\nDestinatari.
 \n\n- Per chi ha un sito di e-commerce ed intende aumentarne il giro d’a
 ffari\n- Per chi sta intraprendendo la strada del commercio elettronico e 
 vuole prendere le giuste decisioni\n- Per imprenditori e direttori marketi
 ng di aziende che guardano al web come una possibile area di sviluppo del 
 proprio business a livello internazionale.\n\nCosti.\n\n290 euro + iva.\n\
 nSe sei socio Aicel\, c'è uno sconto per te. Contattaci per scoprirlo.\n\
 nProgramma.\n\n1° PARTE.  Cambiano i media. Cambia il business.\n\nCambi
 amento del panorama media: come sta cambiando la fruizione dei mezzi - dal
  punto di vista dell'intensità e della qualità - a seguito della diffusi
 one della Rete e degli smartphone.\n\nIl Web: il protagonismo dei social m
 edia e dei motori di ricerca nel ridisegnare le dinamiche della Rete e le 
 strategie di web-marketing.\n\nVendere online non richiede necessariamente
  l'apertura di un e-commerce. I marketplace consentono l'attivazione di un
  canale digitale anche senza l'apertura di un sito e-commerce. Opportunit
 à e cautele nel loro utilizzo.\n\nIl digitale è uno strumento per accele
 rare le vendite di tutta la filiera. Casi di successo\, di insuccesso\, st
 rumenti e buone pratiche da utilizzare per il produttore\, il distributore
 \, il negozio.\n\nIl lancio di un sito di e-commerce.\n\nBenefici e critic
 ità di un progetto e-commerce\n- Il mercato italiano dell’e-commerce: l
 imiti ed opportunità\n- Fattori cruciali di un sito di vendita online:\n-
  L’applicazione: cautele da porsi di fronte alla scelta del software\n- 
 Usabilità del sito: gli errori più comuni. La shopping experience\n- Log
 istica: i corrieri e il magazzino.\n- I sistemi di pagamento: costi e serv
 izi\n- Customer care e capitalizzazione del cliente\n\n2° PARTE. Il marke
 ting digitale.\n\nLa pre-condizione: la web analytics. Strumenti di tracci
 amento e metriche di business.\n\nIl piano di marketing digitale: costruia
 molo insieme.\n\nI link sponsorizzati: il SEM e le formule pay-per-click.\
 nI comparatori di prezzo.\nIl marketing su base commisionale: l'affiliatio
 n marketing\, i marketplace generalisti e verticali.\nGli outlet online.\n
 Focus su eBay ed Amazon. Amazon Prime e Amazon Marketplace.\nL’e-mail ma
 rketing e la lead generation.\nIl couponing. Groupon ed i gruppi di acquis
 to.\nLa multicanalità. Come gestire al meglio le attività digitali per p
 romuovere le vendite offline.\n\nI social media per vendere: applicazioni\
 , funzionalità e buone pratiche.
CATEGORIES:Vendere Grazie al Digitale
LOCATION:Sede AICEL - Roma\, Viale Pinturicchio\, 19\, Roma\, RM\, 00010\, 
 Lazio\, Italia
GEO:41.9324838;12.466797400000019
X-APPLE-STRUCTURED-LOCATION;VALUE=URI;X-ADDRESS=Viale Pinturicchio\, 19\, R
 oma\, RM\, 00010\, Lazio\, Italia;X-APPLE-RADIUS=100;X-TITLE=Sede AICEL - 
 Roma:geo:41.9324838,12.466797400000019
END:VEVENT
END:VCALENDAR