BEGIN:VCALENDAR
VERSION:2.0
PRODID:-//wp-events-plugin.com//7.2.3.1//EN
BEGIN:VEVENT
UID:6@ecampus.aicel.org
DTSTART:20120525T073000Z
DTEND:20120525T163000Z
DTSTAMP:20140712T155720Z
URL:https://ecampus.aicel.org/corsi/lanciare-e-promuovere-un-sito-e-commer
 ce
SUMMARY:Lanciare e promuovere un sito e-commerce - Venezia - Vega\, Parco S
 cientifico Tecnologico - 25 Mag 12 09:30
DESCRIPTION:Relatore.\n\nAndrea Boscaro\n\nObiettivi.\n\n- Attivare il cana
 le digitale all’interno del proprio marketing mix\n- Promuovere le vendi
 te utilizzando le tecniche del web-marketing\n\nDestinatari.\n\n- Per chi 
 ha un sito di e-commerce ed intende aumentarne il giro d’affari\n- Per c
 hi sta intraprendendo la strada del commercio elettronico e vuole prendere
  le giuste decisioni\n- Per imprenditori e direttori marketing di aziende 
 che guardano al web come una possibile area di sviluppo del proprio busine
 ss a livello internazionale\n\nCosti.\n\nIscrizione Standard: 290\,00 euro
  + iva\n\nIscrizione Socio AICEL: 200\,00 + iva\n\n&nbsp\;\n\nProgramma.\n
 \n1° PARTE.  Cambiano i media. Cambia il business.\n\nCambiamento del pa
 norama media: come sta cambiando la fruizione dei mezzi – dal punto di v
 ista dell’intensità e della qualità – a seguito della diffusione del
 la Rete e degli smartphone.\n\nIl Web: il protagonismo dei social media e 
 dei motori di ricerca nel ridisegnare le dinamiche della Rete e le strateg
 ie di web-marketing.\n\nVendere online non richiede necessariamente l’ap
 ertura di un e-commerce. I marketplace consentono l’attivazione di un ca
 nale digitale anche senza l’apertura di un sito e-commerce. Opportunità
  e cautele nel loro utilizzo.\n\nIl digitale è uno strumento per accelera
 re le vendite di tutta la filiera. Casi di successo\, di insuccesso\, stru
 menti e buone pratiche da utilizzare per il produttore\, il distributore\,
  il negozio.\n\nIl lancio di un sito di e-commerce.\n\nBenefici e criticit
 à di un progetto e-commerce\n- Il mercato italiano dell’e-commerce: lim
 iti ed opportunità\n- Fattori cruciali di un sito di vendita online:\n- L
 ’applicazione: cautele da porsi di fronte alla scelta del software\n- Us
 abilità del sito: gli errori più comuni. La shopping experience\n- Logis
 tica: i corrieri e il magazzino.\n- I sistemi di pagamento: costi e serviz
 i\n- Customer care e capitalizzazione del cliente\n\n2° PARTE. Il marketi
 ng digitale.\n\nLa pre-condizione: la web analytics. Strumenti di tracciam
 ento e metriche di business.\n\nIl piano di marketing digitale: costruiamo
 lo insieme.\n\nI link sponsorizzati: il SEM e le formule pay-per-click.\nI
  comparatori di prezzo.\nIl marketing su base commisionale: l’affiliatio
 n marketing\, i marketplace generalisti e verticali.\nGli outlet online.\n
 Focus su eBay ed Amazon. Amazon Prime e Amazon Marketplace.\nL’e-mail ma
 rketing e la lead generation.\nIl couponing. Groupon ed i gruppi di acquis
 to.\nLa multicanalità. Come gestire al meglio le attività digitali per p
 romuovere le vendite offline.\n\nI social media per vendere: applicazioni\
 , funzionalità e buone pratiche.
CATEGORIES:Vendere Grazie al Digitale
LOCATION:Venezia - Vega\, Parco Scientifico Tecnologico\, Via della Libert
 à\, 12\, Venezia Marghera\, VE\, 30175\, Veneto\, Italia
GEO:45.4788521;12.242910100000017
X-APPLE-STRUCTURED-LOCATION;VALUE=URI;X-ADDRESS=Via della Libertà\, 12\, V
 enezia Marghera\, VE\, 30175\, Veneto\, Italia;X-APPLE-RADIUS=100;X-TITLE=
 Venezia - Vega\, Parco Scientifico Tecnologico:geo:45.4788521,12.242910100
 000017
END:VEVENT
END:VCALENDAR