BEGIN:VCALENDAR
VERSION:2.0
PRODID:-//wp-events-plugin.com//7.2.3.1//EN
BEGIN:VEVENT
UID:26@ecampus.aicel.org
DTSTART:20121130T073000Z
DTEND:20121130T153000Z
DTSTAMP:20121121T094350Z
URL:https://ecampus.aicel.org/corsi/lanciare-e-promuovere-un-sito-e-commer
 ce-30122012
SUMMARY:Lanciare e promuovere un sito e-commerce - Bologna\, Hotel Aemilia 
 - 30 Nov 12 09:30
DESCRIPTION:Il corso fornisce tutti gli strumenti necessari per il lancio d
 i un e-commerce (dal progetto alla customer care) oltre a fornire una base
  operativa di analisi dati e impostazioni di campagne marketing.
ATTACH;FMTTYPE=image/jpeg:https://ecampus.aicel.org/wp-content/uploads/and
 rea-foto.jpg
CATEGORIES:Vendere Grazie al Digitale
LOCATION:Bologna\, Hotel Aemilia\, Via G. Zaccherini Alvisi\, 16\, Bologna\
 , BO\, 40138\, Emilia Romagna\, Italia
GEO:44.4933108;11.36054379999996
X-APPLE-STRUCTURED-LOCATION;VALUE=URI;X-ADDRESS=Via G. Zaccherini Alvisi\, 
 16\, Bologna\, BO\, 40138\, Emilia Romagna\, Italia;X-APPLE-RADIUS=100;X-T
 ITLE=Bologna\, Hotel Aemilia:geo:44.4933108,11.36054379999996
END:VEVENT
END:VCALENDAR