BEGIN:VCALENDAR
VERSION:2.0
PRODID:-//wp-events-plugin.com//7.2.3.1//EN
BEGIN:VEVENT
UID:22@ecampus.aicel.org
DTSTART:20121026T070000Z
DTEND:20121026T160000Z
DTSTAMP:20121008T060749Z
URL:https://ecampus.aicel.org/corsi/lanciare-e-promuovere-un-sito-e-commer
 ce-3
SUMMARY:[Corso Gratuito] Lanciare e promuovere un sito e-commerce - Desenza
 no\, Hotel Nazionale - 26 Ott 12 09:00
DESCRIPTION:Relatore.\n\nAndrea Boscaro\, The Vortex.\n\nObiettivi.\n\n- At
 tivare il canale digitale all’interno del proprio marketing mix\n- Promu
 overe le vendite utilizzando le tecniche del web-marketing\n\nDestinatari.
 \n\n- Per chi ha un sito di e-commerce ed intende aumentarne il giro d’a
 ffari\n- Per chi sta intraprendendo la strada del commercio elettronico e 
 vuole prendere le giuste decisioni\n- Per imprenditori e direttori marketi
 ng di aziende che guardano al web come una possibile area di sviluppo del 
 proprio business a livello internazionale.\n\nCosti.\n\n290 euro + iva. Se
  sei socio Aicel\, c'è uno sconto per te. Contattaci per scoprirlo.\n\nGR
 ATUITO\n\n&nbsp\;\n\nProgramma.\n\n1° PARTE.  Cambiano i media. Cambia i
 l business.\n\nCambiamento del panorama media: come sta cambiando la fruiz
 ione dei mezzi - dal punto di vista dell'intensità e della qualità - a s
 eguito della diffusione della Rete e degli smartphone.\n\nIl Web: il prota
 gonismo dei social media e dei motori di ricerca nel ridisegnare le dinami
 che della Rete e le strategie di web-marketing.\n\nVendere online non rich
 iede necessariamente l'apertura di un e-commerce. I marketplace consentono
  l'attivazione di un canale digitale anche senza l'apertura di un sito e-c
 ommerce. Opportunità e cautele nel loro utilizzo.\n\nIl digitale è uno s
 trumento per accelerare le vendite di tutta la filiera. Casi di successo\,
  di insuccesso\, strumenti e buone pratiche da utilizzare per il produttor
 e\, il distributore\, il negozio.\n\nIl lancio di un sito di e-commerce.\n
 \nBenefici e criticità di un progetto e-commerce\n- Il mercato italiano d
 ell’e-commerce: limiti ed opportunità\n- Fattori cruciali di un sito di
  vendita online:\n- L’applicazione: cautele da porsi di fronte alla scel
 ta del software\n- Usabilità del sito: gli errori più comuni. La shoppin
 g experience\n- Logistica: i corrieri e il magazzino.\n- I sistemi di paga
 mento: costi e servizi\n- Customer care e capitalizzazione del cliente\n\n
 2° PARTE. Il marketing digitale.\n\nLa pre-condizione: la web analytics. 
 Strumenti di tracciamento e metriche di business.\n\nIl piano di marketing
  digitale: costruiamolo insieme.\n\nI link sponsorizzati: il SEM e le form
 ule pay-per-click.\nI comparatori di prezzo.\nIl marketing su base commisi
 onale: l'affiliation marketing\, i marketplace generalisti e verticali.\nG
 li outlet online.\nFocus su eBay ed Amazon. Amazon Prime e Amazon Marketpl
 ace.\nL’e-mail marketing e la lead generation.\nIl couponing. Groupon ed
  i gruppi di acquisto.\nLa multicanalità. Come gestire al meglio le attiv
 ità digitali per promuovere le vendite offline.\n\nI social media per ven
 dere: applicazioni\, funzionalità e buone pratiche.\n\nATTENZIONE - LISTA
  DI ATTESA!!
CATEGORIES:Vendere Grazie al Digitale
LOCATION:Desenzano\, Hotel Nazionale\, Viale Marconi\, 23\, Desenzano del G
 arda\, Brescia\, 25015\, Lombardia\, Italia
GEO:45.4684347;10.53603499999997
X-APPLE-STRUCTURED-LOCATION;VALUE=URI;X-ADDRESS=Viale Marconi\, 23\, Desenz
 ano del Garda\, Brescia\, 25015\, Lombardia\, Italia;X-APPLE-RADIUS=100;X-
 TITLE=Desenzano\, Hotel Nazionale:geo:45.4684347,10.53603499999997
END:VEVENT
END:VCALENDAR