BEGIN:VCALENDAR
VERSION:2.0
PRODID:-//wp-events-plugin.com//7.2.3.1//EN
BEGIN:VEVENT
UID:158@ecampus.aicel.org
DTSTART;TZID=Europe/Rome:20211029T100000
DTEND;TZID=Europe/Rome:20211029T120000
DTSTAMP:20231122T153255Z
URL:https://ecampus.aicel.org/corsi/la-protezione-dei-dati-personali-il-ru
 olo-della-guardia-di-finanza
SUMMARY:La protezione dei dati personali: il ruolo della Guardia di Finanza
  -  - 29 Ott 21 10:00
DESCRIPTION:Analizziamo qual è il compito della Guardia di Finanza in meri
 to alla protezione dei dati personali e di quanto essa sia importante per 
 le aziende che operano su internet.
ATTACH;FMTTYPE=image/jpeg:https://ecampus.aicel.org/wp-content/uploads/AIC
 EL-Webinar-29-ottobre-nl.png
CATEGORIES:Gli aspetti pratici dell’e-commerce
END:VEVENT
BEGIN:VTIMEZONE
TZID:Europe/Rome
X-LIC-LOCATION:Europe/Rome
BEGIN:DAYLIGHT
DTSTART:20210328T030000
TZOFFSETFROM:+0100
TZOFFSETTO:+0200
TZNAME:CEST
END:DAYLIGHT
END:VTIMEZONE
END:VCALENDAR