BEGIN:VCALENDAR
VERSION:2.0
PRODID:-//wp-events-plugin.com//7.2.3.1//EN
BEGIN:VEVENT
UID:28@ecampus.aicel.org
DTSTART:20130125T073000Z
DTEND:20130125T110000Z
DTSTAMP:20130123T145136Z
URL:https://ecampus.aicel.org/corsi/la-privacy-nel-mondo-e-commerce-201301
 25
SUMMARY:La Privacy nel mondo e-commerce - Desenzano\, Hotel Nazionale - 25 
 Gen 13 09:30
DESCRIPTION:Il corso punta a fornire una panoramica sulle principali questi
 oni in tema di privacy connesse alla gestione di un sito web.\nL'analisi e
  l'esposizione sarà mirata ad acquisire consapevolezza delle cautele da a
 dottare per ottenere i migliori risultati dalla propria attività di e-com
 merce nel rispetto delle prescrizioni e con la flessibilità necessaria al
 l'adeguamento costante alle normative
CATEGORIES:Gli aspetti pratici dell’e-commerce
LOCATION:Desenzano\, Hotel Nazionale\, Viale Marconi\, 23\, Desenzano del G
 arda\, Brescia\, 25015\, Lombardia\, Italia
GEO:45.4684347;10.53603499999997
X-APPLE-STRUCTURED-LOCATION;VALUE=URI;X-ADDRESS=Viale Marconi\, 23\, Desenz
 ano del Garda\, Brescia\, 25015\, Lombardia\, Italia;X-APPLE-RADIUS=100;X-
 TITLE=Desenzano\, Hotel Nazionale:geo:45.4684347,10.53603499999997
END:VEVENT
END:VCALENDAR