BEGIN:VCALENDAR
VERSION:2.0
PRODID:-//wp-events-plugin.com//7.2.3.1//EN
BEGIN:VEVENT
UID:172@ecampus.aicel.org
DTSTART;TZID=Europe/Rome:20090515T090000
DTEND;TZID=Europe/Rome:20090515T180000
DTSTAMP:20231126T185447Z
URL:https://ecampus.aicel.org/corsi/la-fiducia-nelle-commerce
SUMMARY:La Fiducia nell'E-Commerce - Desenzano - 15 Mag 09 09:00
DESCRIPTION:II Convegno Nazionale dedicato al Commercio Elettronico promoss
 o da AICEL\n\nAicel (Associazione Italiana Commercio Elettronico) organizz
 a il secondo Convegno Nazionale che ruoterà attorno al concetto di fiduci
 a nell'ambito dell'e-commerce.\n\nAicel vuole sensibilizzare l'opinione pu
 bblica sull'importanza della creazione di un rapporto di fiducia tra i mer
 chant ed i clienti\, al fine di migliorare questo importante canale di ven
 dita\, rendendo positive le esperienze d'acquisto dei consumatori.\n\nVEDI
  SITO DEDICATO
ATTACH;FMTTYPE=image/jpeg:https://ecampus.aicel.org/wp-content/uploads/con
 vegno2009.jpg
CATEGORIES:Convegni
LOCATION:Desenzano\, Via Giosuè Carducci\, 4\, Desenzano del Garda\, Bresc
 ia\, 25015\, Lombardia\, Italia
GEO:45.4692651;10.539854500000047
X-APPLE-STRUCTURED-LOCATION;VALUE=URI;X-ADDRESS=Via Giosuè Carducci\, 4\, 
 Desenzano del Garda\, Brescia\, 25015\, Lombardia\, Italia;X-APPLE-RADIUS=
 100;X-TITLE=Desenzano:geo:45.4692651,10.539854500000047
END:VEVENT
BEGIN:VTIMEZONE
TZID:Europe/Rome
X-LIC-LOCATION:Europe/Rome
BEGIN:DAYLIGHT
DTSTART:20090329T030000
TZOFFSETFROM:+0100
TZOFFSETTO:+0200
TZNAME:CEST
END:DAYLIGHT
END:VTIMEZONE
END:VCALENDAR